BEGIN:VCALENDAR
VERSION:2.0
PRODID:-//Capcom France - ECPv6.15.17//NONSGML v1.0//EN
CALSCALE:GREGORIAN
METHOD:PUBLISH
X-WR-CALNAME:Capcom France
X-ORIGINAL-URL:https://capcom.smart4web.net
X-WR-CALDESC:Évènements pour Capcom France
REFRESH-INTERVAL;VALUE=DURATION:PT1H
X-Robots-Tag:noindex
X-PUBLISHED-TTL:PT1H
BEGIN:VTIMEZONE
TZID:Europe/Paris
BEGIN:DAYLIGHT
TZOFFSETFROM:+0100
TZOFFSETTO:+0200
TZNAME:CEST
DTSTART:20250330T010000
END:DAYLIGHT
BEGIN:STANDARD
TZOFFSETFROM:+0200
TZOFFSETTO:+0100
TZNAME:CET
DTSTART:20251026T010000
END:STANDARD
BEGIN:DAYLIGHT
TZOFFSETFROM:+0100
TZOFFSETTO:+0200
TZNAME:CEST
DTSTART:20260329T010000
END:DAYLIGHT
BEGIN:STANDARD
TZOFFSETFROM:+0200
TZOFFSETTO:+0100
TZNAME:CET
DTSTART:20261025T010000
END:STANDARD
BEGIN:DAYLIGHT
TZOFFSETFROM:+0100
TZOFFSETTO:+0200
TZNAME:CEST
DTSTART:20270328T010000
END:DAYLIGHT
BEGIN:STANDARD
TZOFFSETFROM:+0200
TZOFFSETTO:+0100
TZNAME:CET
DTSTART:20271031T010000
END:STANDARD
END:VTIMEZONE
BEGIN:VEVENT
DTSTART;VALUE=DATE:20260424
DTEND;VALUE=DATE:20260425
DTSTAMP:20260420T121041
CREATED:20251218T091940Z
LAST-MODIFIED:20251218T091940Z
UID:14664-1776988800-1777075199@capcom.smart4web.net
SUMMARY:Sortie PRAGMATA sur PS5\, Xbox Série X | S\, Nintendo Switch 2\, PC (Steam)
DESCRIPTION:
URL:https://capcom.smart4web.net/event/sortie-pragmata-sur-ps5-xbox-serie-x-s-nintendo-switch-2-pc-steam/
END:VEVENT
END:VCALENDAR